BEGIN:VCALENDAR
VERSION:2.0
PRODID:-//Rotex International - ECPv6.15.18//NONSGML v1.0//EN
CALSCALE:GREGORIAN
METHOD:PUBLISH
X-ORIGINAL-URL:https://rotex.org
X-WR-CALDESC:Events for Rotex International
REFRESH-INTERVAL;VALUE=DURATION:PT1H
X-Robots-Tag:noindex
X-PUBLISHED-TTL:PT1H
BEGIN:VTIMEZONE
TZID:Europe/Helsinki
BEGIN:DAYLIGHT
TZOFFSETFROM:+0200
TZOFFSETTO:+0300
TZNAME:EEST
DTSTART:20210328T010000
END:DAYLIGHT
BEGIN:STANDARD
TZOFFSETFROM:+0300
TZOFFSETTO:+0200
TZNAME:EET
DTSTART:20211031T010000
END:STANDARD
BEGIN:DAYLIGHT
TZOFFSETFROM:+0200
TZOFFSETTO:+0300
TZNAME:EEST
DTSTART:20220327T010000
END:DAYLIGHT
BEGIN:STANDARD
TZOFFSETFROM:+0300
TZOFFSETTO:+0200
TZNAME:EET
DTSTART:20221030T010000
END:STANDARD
BEGIN:DAYLIGHT
TZOFFSETFROM:+0200
TZOFFSETTO:+0300
TZNAME:EEST
DTSTART:20230326T010000
END:DAYLIGHT
BEGIN:STANDARD
TZOFFSETFROM:+0300
TZOFFSETTO:+0200
TZNAME:EET
DTSTART:20231029T010000
END:STANDARD
END:VTIMEZONE
BEGIN:VEVENT
DTSTART;TZID=Europe/Helsinki:20220806T140000
DTEND;TZID=Europe/Helsinki:20220806T180000
DTSTAMP:20260421T055322
CREATED:20220618T112500Z
LAST-MODIFIED:20220727T154511Z
UID:6874-1659794400-1659808800@rotex.org
SUMMARY:General Meeting and Board Elections
DESCRIPTION:Learn more about what Rotex International has been working on this past year and participate in the elections for incoming Rotex International board! \nMore information about the election voting procedure can be found in our knowledgebase. The general meeting agenda will be posted online soon. Click here to join the meeting. \nAgenda: \n\nWelcome\nMinutes of the last General Meeting\nRecap of 2021-2022\nRXI Membership update\nRXI Convention 2024\nRXI Committees\nDiscussion and adoption of changes to the board\nElections starting approximately at 3:15 PM CEST\n\nHow do the elections work?\nCandidates presenting themselves\nSecret discussion of the candidates\nDiscussion and questions asked with the candidates\nVoting\nNew board members announced\n\n\nAny other business\nMeeting ends
URL:https://rotex.org/event/general-meeting-and-board-elections/
LOCATION:Online
CATEGORIES:Rotex International
ATTACH;FMTTYPE=image/png:https://rotex.org/wp-content/uploads/2022/06/RXI-Logo.png
ORGANIZER;CN="Rotex International":MAILTO:info@rotex.org
END:VEVENT
END:VCALENDAR