BEGIN:VCALENDAR
VERSION:2.0
PRODID:-//Rotex International - ECPv6.15.18//NONSGML v1.0//EN
CALSCALE:GREGORIAN
METHOD:PUBLISH
X-ORIGINAL-URL:https://rotex.org
X-WR-CALDESC:Events for Rotex International
REFRESH-INTERVAL;VALUE=DURATION:PT1H
X-Robots-Tag:noindex
X-PUBLISHED-TTL:PT1H
BEGIN:VTIMEZONE
TZID:America/Vancouver
BEGIN:DAYLIGHT
TZOFFSETFROM:-0800
TZOFFSETTO:-0700
TZNAME:PDT
DTSTART:20230312T100000
END:DAYLIGHT
BEGIN:STANDARD
TZOFFSETFROM:-0700
TZOFFSETTO:-0800
TZNAME:PST
DTSTART:20231105T090000
END:STANDARD
BEGIN:DAYLIGHT
TZOFFSETFROM:-0800
TZOFFSETTO:-0700
TZNAME:PDT
DTSTART:20240310T100000
END:DAYLIGHT
BEGIN:STANDARD
TZOFFSETFROM:-0700
TZOFFSETTO:-0800
TZNAME:PST
DTSTART:20241103T090000
END:STANDARD
BEGIN:DAYLIGHT
TZOFFSETFROM:-0800
TZOFFSETTO:-0700
TZNAME:PDT
DTSTART:20250309T100000
END:DAYLIGHT
BEGIN:STANDARD
TZOFFSETFROM:-0700
TZOFFSETTO:-0800
TZNAME:PST
DTSTART:20251102T090000
END:STANDARD
END:VTIMEZONE
BEGIN:VTIMEZONE
TZID:Europe/Helsinki
BEGIN:DAYLIGHT
TZOFFSETFROM:+0200
TZOFFSETTO:+0300
TZNAME:EEST
DTSTART:20210328T010000
END:DAYLIGHT
BEGIN:STANDARD
TZOFFSETFROM:+0300
TZOFFSETTO:+0200
TZNAME:EET
DTSTART:20211031T010000
END:STANDARD
BEGIN:DAYLIGHT
TZOFFSETFROM:+0200
TZOFFSETTO:+0300
TZNAME:EEST
DTSTART:20220327T010000
END:DAYLIGHT
BEGIN:STANDARD
TZOFFSETFROM:+0300
TZOFFSETTO:+0200
TZNAME:EET
DTSTART:20221030T010000
END:STANDARD
BEGIN:DAYLIGHT
TZOFFSETFROM:+0200
TZOFFSETTO:+0300
TZNAME:EEST
DTSTART:20230326T010000
END:DAYLIGHT
BEGIN:STANDARD
TZOFFSETFROM:+0300
TZOFFSETTO:+0200
TZNAME:EET
DTSTART:20231029T010000
END:STANDARD
BEGIN:DAYLIGHT
TZOFFSETFROM:+0200
TZOFFSETTO:+0300
TZNAME:EEST
DTSTART:20240331T010000
END:DAYLIGHT
BEGIN:STANDARD
TZOFFSETFROM:+0300
TZOFFSETTO:+0200
TZNAME:EET
DTSTART:20241027T010000
END:STANDARD
END:VTIMEZONE
BEGIN:VTIMEZONE
TZID:America/New_York
BEGIN:DAYLIGHT
TZOFFSETFROM:-0500
TZOFFSETTO:-0400
TZNAME:EDT
DTSTART:20220313T070000
END:DAYLIGHT
BEGIN:STANDARD
TZOFFSETFROM:-0400
TZOFFSETTO:-0500
TZNAME:EST
DTSTART:20221106T060000
END:STANDARD
BEGIN:DAYLIGHT
TZOFFSETFROM:-0500
TZOFFSETTO:-0400
TZNAME:EDT
DTSTART:20230312T070000
END:DAYLIGHT
BEGIN:STANDARD
TZOFFSETFROM:-0400
TZOFFSETTO:-0500
TZNAME:EST
DTSTART:20231105T060000
END:STANDARD
BEGIN:DAYLIGHT
TZOFFSETFROM:-0500
TZOFFSETTO:-0400
TZNAME:EDT
DTSTART:20240310T070000
END:DAYLIGHT
BEGIN:STANDARD
TZOFFSETFROM:-0400
TZOFFSETTO:-0500
TZNAME:EST
DTSTART:20241103T060000
END:STANDARD
END:VTIMEZONE
BEGIN:VEVENT
DTSTART;TZID=America/Vancouver:20240307T080000
DTEND;TZID=America/Vancouver:20240309T170000
DTSTAMP:20260423T132234
CREATED:20231201T021510Z
LAST-MODIFIED:20231201T021836Z
UID:7546-1709798400-1710003600@rotex.org
SUMMARY:NAYEN Conference 2024
DESCRIPTION:Welcome to NAYEN (North American Youth Exchange Network). We are the premier regional association representing 167 districts in Canada\, Mexico\, and the United States involved in Rotary Youth Exchange. \nNAYEN empowers Rotary leaders and host communities in Canada\, Mexico\, and the United States to create transformative exchange experiences that promote cultural understanding\, foster global citizenship\, and build a more peaceful world. We provide unwavering support to every Rotary District in North America\, fostering meaningful connections and promoting cultural exchange to build a brighter\, more interconnected world that promotes peace and unity. \nJoin us in person or virtually at the Sheraton Vancouver Wall Centre in Vancouver\, British Columbia\, Canada March 7th-9th 2024.
URL:https://rotex.org/event/nayen-conference-2024/
LOCATION:Sheraton Vancouver Wall Centre\, 1000 Burrard St\, Vancouver\, BC\, V6Z 2R9\, Canada
CATEGORIES:Rotary International,Rotex International,RYE,RYE Conferences
END:VEVENT
BEGIN:VEVENT
DTSTART;VALUE=DATE:20230901
DTEND;VALUE=DATE:20230904
DTSTAMP:20260423T132234
CREATED:20220911T095924Z
LAST-MODIFIED:20220914T205526Z
UID:7166-1693526400-1693785599@rotex.org
SUMMARY:EEMA 2023
DESCRIPTION:Co-Create and Grow Together
URL:https://rotex.org/event/eema-2023/
LOCATION:Radisson Blu Hotel Lietuva\, Konstitucijos pr. 20\, Vilnius\, 09308\, Lithuania
CATEGORIES:RYE Conferences
ATTACH;FMTTYPE=image/jpeg:https://rotex.org/wp-content/uploads/2022/09/EEMA-2023.jpg
END:VEVENT
BEGIN:VEVENT
DTSTART;VALUE=DATE:20230526
DTEND;VALUE=DATE:20230528
DTSTAMP:20260423T132234
CREATED:20220704T113819Z
LAST-MODIFIED:20220704T120230Z
UID:6963-1685059200-1685231999@rotex.org
SUMMARY:Youth Exchange Officers Preconvention 2023
DESCRIPTION:
URL:https://rotex.org/event/youth-exchange-officers-preconvention-2023/
LOCATION:Melbourne Convention and Exhibition Centre\, 1 Convention Centre Pl\, Melbourne\, Victoria\, 3006\, Australia
CATEGORIES:Rotary International,RYE Conferences
END:VEVENT
BEGIN:VEVENT
DTSTART;VALUE=DATE:20230414
DTEND;VALUE=DATE:20230417
DTSTAMP:20260423T132234
CREATED:20220704T122224Z
LAST-MODIFIED:20220829T084433Z
UID:6990-1681430400-1681689599@rotex.org
SUMMARY:LATIR Conference 2023
DESCRIPTION:Forums – Plenaries – Debates. \nRotex Own Meetings. \nCity Tours – Friendship. \nRegistration: https://forms.gle/THSNyAaPNJKQAMKCA \n 
URL:https://rotex.org/event/latir-2023/
LOCATION:Howard Johnson by Wyndham Plaza Hotel Mayorazgo\, Avenida Luis Etchevehere\, Francisco de Miranda 331 Y\, Paraná\, Entre Ríos\, E3100\, Argentina
CATEGORIES:RYE Conferences
ATTACH;FMTTYPE=image/png:https://rotex.org/wp-content/uploads/2022/07/LATIR-Logo.png
END:VEVENT
BEGIN:VEVENT
DTSTART;VALUE=DATE:20230216
DTEND;VALUE=DATE:20230219
DTSTAMP:20260423T132234
CREATED:20220704T112433Z
LAST-MODIFIED:20220704T122421Z
UID:6953-1676505600-1676764799@rotex.org
SUMMARY:NAYEN Conference 2023
DESCRIPTION:Make plans now to join us as we return to an in-person conference. Details to follow.
URL:https://rotex.org/event/nayen-2022/
LOCATION:Hyatt Crystal City\, 2799 Richmond Hwy\, Arlington\, VA\, 22202\, United States
CATEGORIES:RYE Conferences
ATTACH;FMTTYPE=image/jpeg:https://rotex.org/wp-content/uploads/2022/07/NAYEN-Conference-Logo.jpg
END:VEVENT
BEGIN:VEVENT
DTSTART;VALUE=DATE:20221118
DTEND;VALUE=DATE:20221121
DTSTAMP:20260423T132234
CREATED:20220704T114527Z
LAST-MODIFIED:20220704T122602Z
UID:6965-1668729600-1668988799@rotex.org
SUMMARY:ABIJ Conference 2022
DESCRIPTION:A ABIJ – Associação Brasileira de Intercâmbio de Jovens\, em conjunto com o Distrito 4670\, está se preparando para a XLI Conferência\, que será realizada de modo presencial de 17 a 20 de novembro\, em Canela\, no Rio Grande do Sul. \nÉ com imensa alegria\, então\, que convidamos você\, sua família e todos os rotarianos interessados para participarem desse tradicional e importante evento\, já inserido no calendário do Rotary International\, com uma programação de conteúdos de grande interesse para todos aqueles envolvidos com o programa de intercâmbio de jovens do Rotary\, celebrado com muito companheirismo e animação para todos os gostos.
URL:https://rotex.org/event/abij-2022/
LOCATION:BC
CATEGORIES:RYE Conferences
ATTACH;FMTTYPE=image/jpeg:https://rotex.org/wp-content/uploads/2022/07/ABIJ-Logo.jpg
END:VEVENT
BEGIN:VEVENT
DTSTART;VALUE=DATE:20221021
DTEND;VALUE=DATE:20221024
DTSTAMP:20260423T132234
CREATED:20220704T115355Z
LAST-MODIFIED:20220704T120909Z
UID:6970-1666310400-1666569599@rotex.org
SUMMARY:RYEA Conference 2022
DESCRIPTION:
URL:https://rotex.org/event/ryea-annual-conference/
LOCATION:Hotel Grand Chancellor\, 23 Leichhardt St\, Brisbane\, Queensland\, 4000\, Australia
CATEGORIES:RYE Conferences
END:VEVENT
BEGIN:VEVENT
DTSTART;VALUE=DATE:20220909
DTEND;VALUE=DATE:20220912
DTSTAMP:20260423T132234
CREATED:20220617T222833Z
LAST-MODIFIED:20220704T122522Z
UID:6862-1662681600-1662940799@rotex.org
SUMMARY:EEMA Conference 2022
DESCRIPTION:Back tothe future\n\n\nThis is the theme of the 2022 edition. \n\n\nThe 2022 edition aims to be a restart point after the stop imposed by the pandemic.  \nYouth Exchange students often say their experience abroad was the best time of their lives. Being part of the program can be life-changing for Rotary members as well. 
URL:https://rotex.org/event/eema-2022/
LOCATION:Sheraton Lake Como Hotel\, Via Per Cernobbio\, 41A\, Como\, CO\, 22100\, Italy
CATEGORIES:RYE Conferences
ATTACH;FMTTYPE=image/jpeg:https://rotex.org/wp-content/uploads/2022/06/a24994_8e3e54c3f3104ece82b96c094.jpeg
END:VEVENT
BEGIN:VEVENT
DTSTART;VALUE=DATE:20220603
DTEND;VALUE=DATE:20220605
DTSTAMP:20260423T132234
CREATED:20220617T223734Z
LAST-MODIFIED:20220704T120341Z
UID:6868-1654214400-1654387199@rotex.org
SUMMARY:Youth Exchange Officers Preconvention 2022
DESCRIPTION:The Youth Exchange Officers Preconvention offers an exciting opportunity to network with Rotarians and volunteers involved in the Rotary Youth Exchange program from around the world. You will learn alongside friends\, exchange ideas\, and make connections for future exchanges while experiencing Houston. \nProgram\nOur program features general sessions as well as interactive workshops. \nPreconvention sessions will be held all day Friday\, 3 June\, and Saturday\, 4 June. \nYouth Exchange Officers Banquet\nFriday\, 3 June \nRelax with friends and celebrate the spirit of collaboration at this year’s Youth Exchange Officers Banquet. Banquet tickets are not included in the preconvention registration fee. Purchase your tickets when you register. \nWho can attend?\nThe event is open to all attendees who are interested in the Rotary Youth Exchange program. \nRequest funding from your district\nAll district governors are encouraged to send their district’s Youth Exchange officers to the preconvention each year. Contact your district to see if funding is available. \nJoin Youth Exchange leaders from around the world on our preconvention Facebook page.
URL:https://rotex.org/event/youth-exchange-officers-preconvention-2022/
LOCATION:BC
CATEGORIES:Rotary International,RYE Conferences
END:VEVENT
END:VCALENDAR