BEGIN:VCALENDAR
VERSION:2.0
PRODID:-//Rotex International - ECPv6.15.18//NONSGML v1.0//EN
CALSCALE:GREGORIAN
METHOD:PUBLISH
X-ORIGINAL-URL:https://rotex.org
X-WR-CALDESC:Events for Rotex International
REFRESH-INTERVAL;VALUE=DURATION:PT1H
X-Robots-Tag:noindex
X-PUBLISHED-TTL:PT1H
BEGIN:VTIMEZONE
TZID:Europe/Helsinki
BEGIN:DAYLIGHT
TZOFFSETFROM:+0200
TZOFFSETTO:+0300
TZNAME:EEST
DTSTART:20230326T010000
END:DAYLIGHT
BEGIN:STANDARD
TZOFFSETFROM:+0300
TZOFFSETTO:+0200
TZNAME:EET
DTSTART:20231029T010000
END:STANDARD
BEGIN:DAYLIGHT
TZOFFSETFROM:+0200
TZOFFSETTO:+0300
TZNAME:EEST
DTSTART:20240331T010000
END:DAYLIGHT
BEGIN:STANDARD
TZOFFSETFROM:+0300
TZOFFSETTO:+0200
TZNAME:EET
DTSTART:20241027T010000
END:STANDARD
BEGIN:DAYLIGHT
TZOFFSETFROM:+0200
TZOFFSETTO:+0300
TZNAME:EEST
DTSTART:20250330T010000
END:DAYLIGHT
BEGIN:STANDARD
TZOFFSETFROM:+0300
TZOFFSETTO:+0200
TZNAME:EET
DTSTART:20251026T010000
END:STANDARD
END:VTIMEZONE
BEGIN:VEVENT
DTSTART;TZID=Europe/Helsinki:20240804T090000
DTEND;TZID=Europe/Helsinki:20240804T120000
DTSTAMP:20260421T023957
CREATED:20240731T200335Z
LAST-MODIFIED:20240731T200424Z
UID:7777-1722762000-1722772800@rotex.org
SUMMARY:General Meeting 2024
DESCRIPTION:Topic: AGM\nTime: Aug 4\, 2024 09:00 AM Rome \nJoin Zoom Meeting\nhttps://mcgill.zoom.us/j/89677636130?pwd=xbPOKa40iuxPvGJWdxUzT8ay1C59bC.1 \nMeeting ID: 896 7763 6130\nPasscode: 103721 \n 
URL:https://rotex.org/event/general-meeting-2024/
LOCATION:Online
END:VEVENT
END:VCALENDAR