BEGIN:VCALENDAR
VERSION:2.0
PRODID:-//Rotex International - ECPv6.15.18//NONSGML v1.0//EN
CALSCALE:GREGORIAN
METHOD:PUBLISH
X-WR-CALNAME:Rotex International
X-ORIGINAL-URL:https://rotex.org
X-WR-CALDESC:Events for Rotex International
REFRESH-INTERVAL;VALUE=DURATION:PT1H
X-Robots-Tag:noindex
X-PUBLISHED-TTL:PT1H
BEGIN:VTIMEZONE
TZID:America/New_York
BEGIN:DAYLIGHT
TZOFFSETFROM:-0500
TZOFFSETTO:-0400
TZNAME:EDT
DTSTART:20220313T070000
END:DAYLIGHT
BEGIN:STANDARD
TZOFFSETFROM:-0400
TZOFFSETTO:-0500
TZNAME:EST
DTSTART:20221106T060000
END:STANDARD
BEGIN:DAYLIGHT
TZOFFSETFROM:-0500
TZOFFSETTO:-0400
TZNAME:EDT
DTSTART:20230312T070000
END:DAYLIGHT
BEGIN:STANDARD
TZOFFSETFROM:-0400
TZOFFSETTO:-0500
TZNAME:EST
DTSTART:20231105T060000
END:STANDARD
BEGIN:DAYLIGHT
TZOFFSETFROM:-0500
TZOFFSETTO:-0400
TZNAME:EDT
DTSTART:20240310T070000
END:DAYLIGHT
BEGIN:STANDARD
TZOFFSETFROM:-0400
TZOFFSETTO:-0500
TZNAME:EST
DTSTART:20241103T060000
END:STANDARD
END:VTIMEZONE
BEGIN:VEVENT
DTSTART;VALUE=DATE:20230216
DTEND;VALUE=DATE:20230219
DTSTAMP:20260420T182655
CREATED:20220704T112433Z
LAST-MODIFIED:20220704T122421Z
UID:6953-1676505600-1676764799@rotex.org
SUMMARY:NAYEN Conference 2023
DESCRIPTION:Make plans now to join us as we return to an in-person conference. Details to follow.
URL:https://rotex.org/event/nayen-2022/
LOCATION:Hyatt Crystal City\, 2799 Richmond Hwy\, Arlington\, VA\, 22202\, United States
CATEGORIES:RYE Conferences
ATTACH;FMTTYPE=image/jpeg:https://rotex.org/wp-content/uploads/2022/07/NAYEN-Conference-Logo.jpg
END:VEVENT
END:VCALENDAR